BEGIN:VCALENDAR
VERSION:2.0
PRODID:-//ChamberMaster//Event Calendar 2.0//EN
METHOD:PUBLISH
X-PUBLISHED-TTL:P3D
REFRESH-INTERVAL:P3D
CALSCALE:GREGORIAN
BEGIN:VEVENT
DTSTART:20260324T160000Z
DTEND:20260324T180000Z
X-MICROSOFT-CDO-ALLDAYEVENT:FALSE
SUMMARY:State of the City Luncheon
DESCRIPTION:Northwest Oklahoma City Chamber is proud to host our annual State of the City\, featuring leadership from our five partner municipalities.\n\nJoin us as we hear directly from the city leaders of:\n\nBethany\n\nNichols Hills\n\nOklahoma CIty\n\nThe Village\n\nWarr Acres\n\n \n\nEach municipality will provide updates on economic development\, infrastructure\, public safety\, growth initiatives\, and priorities for the year ahead.\n\nThis event brings together business leaders\, elected officials\, community partners\, and residents for an informative and forward-looking conversation about the future of our cities.
X-ALT-DESC;FMTTYPE=text/html:<p data-end="595" data-start="462">Northwest&nbsp\;Oklahoma City Chamber&nbsp\;is proud to host our annual <strong data-end="532" data-start="509">State of the City</strong>\, featuring leadership from our five partner municipalities.</p>\n\n<p data-end="662" data-start="597">Join us as we hear directly from the city leaders of:<br />\nBethany<br />\nNichols Hills<br />\nOklahoma CIty<br />\nThe Village<br />\nWarr Acres<br />\n&nbsp\;</p>\n\n<p data-end="877" data-start="728">Each municipality will provide updates on economic development\, infrastructure\, public safety\, growth initiatives\, and priorities for the year ahead.</p>\n\n<p data-end="1060" data-start="879">This event brings together business leaders\, elected officials\, community partners\, and residents for an informative and forward-looking conversation about the future of our cities.</p>\n
LOCATION:The Lively Hotel 5101 N. Pennsylvania Oklahoma City
UID:e.1365.13899
SEQUENCE:3
DTSTAMP:20260420T022252Z
URL:https://members.nwokc.com/events/details/state-of-the-city-luncheon-13899
END:VEVENT

END:VCALENDAR
