BEGIN:VCALENDAR
VERSION:2.0
PRODID:-//ChamberMaster//Event Calendar 2.0//EN
METHOD:PUBLISH
X-PUBLISHED-TTL:P3D
REFRESH-INTERVAL:P3D
CALSCALE:GREGORIAN
BEGIN:VEVENT
DTSTART:20240716T220000Z
DTEND:20240717T010000Z
X-MICROSOFT-CDO-ALLDAYEVENT:FALSE
SUMMARY:Elysian Wellness & Aesthetics 5th anniversary celebration
DESCRIPTION:Join us to celebrate Cinco de Elysian\, our 5th anniversary open house! We'll have refreshments\, food\, demos\, giveaways and event-only pricing as we mark this special milestone in business! It's an event you definitely don't want to miss! Bring a friend and come fiesta with Elysian~
X-ALT-DESC;FMTTYPE=text/html:Join us to celebrate Cinco de Elysian\, our 5th anniversary open house! We&#39\;ll have refreshments\, food\, demos\, giveaways and event-only pricing as we mark this special milestone in business! It&#39\;s an event you definitely don&#39\;t want to miss! Bring a friend and come fiesta with Elysian~
LOCATION:Elysian Wellness & Aesthetics
UID:e.1365.12998
SEQUENCE:3
DTSTAMP:20260420T184057Z
URL:https://members.nwokc.com/events/details/elysian-wellness-aesthetics-5th-anniversary-celebration-12998
END:VEVENT

END:VCALENDAR
