BEGIN:VCALENDAR
VERSION:2.0
PRODID:-//ChamberMaster//Event Calendar 2.0//EN
METHOD:PUBLISH
X-PUBLISHED-TTL:P3D
REFRESH-INTERVAL:P3D
CALSCALE:GREGORIAN
BEGIN:VEVENT
DTSTART:20260418T153000Z
DTEND:20260418T180000Z
X-MICROSOFT-CDO-ALLDAYEVENT:FALSE
SUMMARY:DPA Walk for Adoption
DESCRIPTION:Join us for the fourth annual DPA Walk for Adoption\, where every step tells a story!  Your registration includes a t-shirt\, ticket to ride the Ferris wheel\, lunch\, and more.  \n\n\n\nThis event unites our community to take meaningful steps - both literal and figurative - toward supporting women\, children\, and families on their adoption journeys.  Adoption is not just a moment in time - it's a lifelong journey.  At Deaconess Pregnancy & Adoption\, we are dedicated to walking alongside everyone who comes through our doors. \n\n\n\nWe can't wait to see you there!
X-ALT-DESC;FMTTYPE=text/html:Join us for the fourth annual DPA Walk for Adoption\, where every step tells a story!&nbsp\; Your registration includes a t-shirt\, ticket to ride the Ferris wheel\, lunch\, and more.&nbsp\;&nbsp\;<br />\n<br />\nThis event unites our community to take meaningful steps - both literal and figurative - toward supporting women\, children\, and families on their adoption journeys.&nbsp\; Adoption is not just a moment in time - it&#39\;s a lifelong journey.&nbsp\; At Deaconess Pregnancy &amp\; Adoption\, we are dedicated to walking alongside everyone who comes through our doors.&nbsp\;<br />\n<br />\nWe can&#39\;t wait to see you there!
LOCATION:1701 S. Western Ave. OKC\, OK @ the Wheeler Ferris Wheel
UID:e.1365.13894
SEQUENCE:3
DTSTAMP:20260420T000743Z
URL:https://members.nwokc.com/events/details/dpa-walk-for-adoption-13894
END:VEVENT

END:VCALENDAR
