BEGIN:VCALENDAR
VERSION:2.0
PRODID:-//ChamberMaster//Event Calendar 2.0//EN
METHOD:PUBLISH
X-PUBLISHED-TTL:P3D
REFRESH-INTERVAL:P3D
CALSCALE:GREGORIAN
BEGIN:VEVENT
DTSTART:20260317T223000Z
DTEND:20260318T013000Z
X-MICROSOFT-CDO-ALLDAYEVENT:FALSE
SUMMARY:D-Dent's Spirit Night at Main Event
DESCRIPTION:BRING YOUR "A" GAME for Spirit Night at Main Event and help benefit D-DENT\, INC. 20% of ALL sales that evening will be donated to D-DENT\, INC. Drop all receipts at the end of the night into the receipt drop off box at the Spirit Night table to ensure your purchase is accounted for. Earn donations on all activities\, video games\, food\, gift cards\, & non-alcoholic beverages purchases.
X-ALT-DESC;FMTTYPE=text/html:BRING YOUR &quot\;A&quot\; GAME for Spirit Night at Main Event and help benefit D-DENT\, INC. 20% of ALL sales that evening will be donated to D-DENT\, INC. Drop all receipts at the end of the night into the receipt drop off box at the Spirit Night table to ensure your purchase is accounted for. Earn donations on all activities\, video games\, food\, gift cards\, &amp\; non-alcoholic beverages purchases.
LOCATION:MAIN EVENT - 1441 W. MEMORIAL ROAD\, OKLAHOMA CITY\, OK 73114
UID:e.1365.13902
SEQUENCE:3
DTSTAMP:20260420T040311Z
URL:https://members.nwokc.com/events/details/d-dent-s-spirit-night-at-main-event-13902
END:VEVENT

END:VCALENDAR
