BEGIN:VCALENDAR
VERSION:2.0
PRODID:-//ChamberMaster//Event Calendar 2.0//EN
METHOD:PUBLISH
X-PUBLISHED-TTL:P3D
REFRESH-INTERVAL:P3D
CALSCALE:GREGORIAN
BEGIN:VEVENT
DTSTART:20260529T210000Z
DTEND:20260529T233000Z
X-MICROSOFT-CDO-ALLDAYEVENT:FALSE
SUMMARY:Boones & Reeves Open House and Ribbon Cutting
DESCRIPTION:Please join us in welcoming Boones & Reeves Orthodontics!  We are so glad to have them in our community!  Open house and ribbon cutting will be from 4-6:30pm: ribbon cutting at 4:30pm.
X-ALT-DESC;FMTTYPE=text/html:Please join us in welcoming Boones &amp\; Reeves Orthodontics!&nbsp\; We are so glad to have them in our community!&nbsp\; Open house and ribbon cutting will be from 4-6:30pm: ribbon cutting at 4:30pm.<br />\n&nbsp\;
LOCATION:7221 NW 23rd Street Bethany
UID:e.1365.14067
SEQUENCE:3
DTSTAMP:20260424T123319Z
URL:https://members.nwokc.com/events/details/boones-reeves-open-house-and-ribbon-cutting-14067
END:VEVENT

END:VCALENDAR
